BEGIN:VCALENDAR
VERSION:2.0
PRODID:-//wp-events-plugin.com//7.2.3.1//EN
TZID:Europe/Paris
X-WR-TIMEZONE:Europe/Paris
BEGIN:VEVENT
UID:26@foyerdesmarins.fr
DTSTART;TZID=Europe/Paris:20260517T170000
DTEND;TZID=Europe/Paris:20260517T193000
DTSTAMP:20250818T071654Z
URL:https://foyerdesmarins.fr/evenements/stella-nova/
SUMMARY:STELLA NOVA
DESCRIPTION:Une chanteuse et une guitariste proposent entre 2 battements d'
 ailes\, des reprises\nde Rock &amp\; Pop. Explosion d'une étoile (de mer)
 \, c'est Nirvana\, Patti Smith\, Amy Winehouse\, Imelda\nMay... Elles sont
  femmes et (z)ailées. Leurs reflets sur la mer à la houle modérée dess
 inent des peintures\ncubiques que Pablo Picasso n'aurait pas reniées.\nR
 ÉSERVEZ ICI\n
ATTACH;FMTTYPE=image/jpeg:https://foyerdesmarins.fr/wp-content/uploads/202
 5/06/STELLA-NOVA.png
CATEGORIES:Concert Gratuit,Festival d'un bord à l'autre
LOCATION:Chapelle du foyer des marins\, 16 rue Duguay Trouin\, Rouen\, Norm
 andie\, 76000\, Seine-Maritime\, France
GEO:49.442558;1.082571
X-APPLE-STRUCTURED-LOCATION;VALUE=URI;X-ADDRESS=16 rue Duguay Trouin\, Roue
 n\, Normandie\, 76000\, Seine-Maritime\, France;X-APPLE-RADIUS=100;X-TITLE
 =Chapelle du foyer des marins:geo:49.442558,1.082571
END:VEVENT
BEGIN:VTIMEZONE
TZID:Europe/Paris
X-LIC-LOCATION:Europe/Paris
BEGIN:DAYLIGHT
DTSTART:20260329T030000
TZOFFSETFROM:+0100
TZOFFSETTO:+0200
TZNAME:CEST
END:DAYLIGHT
END:VTIMEZONE
END:VCALENDAR