BEGIN:VCALENDAR
VERSION:2.0
PRODID:-//wp-events-plugin.com//7.2.3.1//EN
TZID:Europe/Paris
X-WR-TIMEZONE:Europe/Paris
BEGIN:VEVENT
UID:50@foyerdesmarins.fr
DTSTART;TZID=Europe/Paris:20260613T180000
DTEND;TZID=Europe/Paris:20260613T200000
DTSTAMP:20251230T120103Z
URL:https://foyerdesmarins.fr/evenements/osez-classique-chopin-une-figure-
 de-proue-3/
SUMMARY:OSEZ CLASSIQUE ! CHOPIN UNE FIGURE DE PROUE
DESCRIPTION:Laurent Lamy\, pianiste\, compositeur commence le piano avec L
 aurent Cabasso puis reçoit  à travers l’enseignement de la pianiste p
 olonaise Barbara Halska une synthèse des traditions pianistiques issues d
 e Clara Schumann\, Busoni\, Liszt et Chopin dont elle a hérité auprès d
 e ses professeurs Jerzy Zurawlew (fondateur du concours Chopin de Varsovie
 ) et Tatiana Nikolaïeva.\n\nLaurent Lamy a composé principalement pour 
 divers instruments solistes\, de la musique de chambre. Il  donne des mas
 ters-classes en France et en Pologne. Directeur artistique du festival « 
 Musique à Varengeville »\, il est membre des jurys de plusieurs concours
  pianistiques: Franco-chinois\, Paris-Canton\, Pietro Montani.\n\nAu progr
 amme ce jour :\n\nBallades\, nocturnes\, valses.\nRÉSERVEZ ICI\n&nbsp\;
ATTACH;FMTTYPE=image/jpeg:https://foyerdesmarins.fr/wp-content/uploads/202
 5/10/LAURENT-LAMY-002.jpg
CATEGORIES:Concert,Osez Classique
LOCATION:Chapelle du foyer des marins\, 16 rue Duguay Trouin\, Rouen\, Norm
 andie\, 76000\, Seine-Maritime\, France
GEO:49.442558;1.082571
X-APPLE-STRUCTURED-LOCATION;VALUE=URI;X-ADDRESS=16 rue Duguay Trouin\, Roue
 n\, Normandie\, 76000\, Seine-Maritime\, France;X-APPLE-RADIUS=100;X-TITLE
 =Chapelle du foyer des marins:geo:49.442558,1.082571
END:VEVENT
BEGIN:VTIMEZONE
TZID:Europe/Paris
X-LIC-LOCATION:Europe/Paris
BEGIN:DAYLIGHT
DTSTART:20260329T030000
TZOFFSETFROM:+0100
TZOFFSETTO:+0200
TZNAME:CEST
END:DAYLIGHT
END:VTIMEZONE
END:VCALENDAR