BEGIN:VCALENDAR
VERSION:2.0
PRODID:-//wp-events-plugin.com//7.2.3.1//EN
TZID:Europe/Paris
X-WR-TIMEZONE:Europe/Paris
BEGIN:VEVENT
UID:88@foyerdesmarins.fr
DTSTART;TZID=Europe/Paris:20260510T180000
DTEND;TZID=Europe/Paris:20260510T193000
DTSTAMP:20260407T174947Z
URL:https://foyerdesmarins.fr/evenements/musique-et-mots-desprit/
SUMMARY:Musique et mots d'esprit
DESCRIPTION:Nadia Tanguy est clarinettiste\, professeure de clarinette et m
 usique de chambre\, 1ers prix de solfège\, clarinette\, déchiffrage et m
 usique de chambre au CNR (Rouen). Diplômée en clarinette et musique de c
 hambre à l’ENSM et l’UFAM\, écoles parisiennes\, elle se produit ré
 gulièrement lors de concerts de musique de chambre.\nPhilippe Davenet\, p
 ianiste-compositeur-comédien\, est 1er prix de piano CNSM (Paris) et 1e
 rs prix Gabriel Fauré et de la Fondation de la Vocation. Soliste de Radio
  France\, claveciniste soliste de la Comédie Française\, directeur music
 al du théâtre Hébertot\, il poursuit avec bonheur une carrière variée
  comme accompagnateur (Anne Sylvestre) et concertiste international.\nTous
  2 vous proposent un spectacle musical mêlant l’humour à la poésie\, 
 alternat des citations du monde du spectacle et de personnalités du ciné
 ma et des œuvres musicales pour clarinette et piano (Pierné\, Schumann\,
  Tailleferre\, Chopin\, Saraste\, Rachmaninov\, Poulenc…)\n&nbsp\;\n\nPa
 rticipation Libre\n\n&nbsp\;\nRÉSERVEZ ICI
ATTACH;FMTTYPE=image/jpeg:https://foyerdesmarins.fr/wp-content/uploads/202
 6/04/Musique-et-mots-desprit_site.jpg
LOCATION:Chapelle du foyer des marins\, 16 rue Duguay Trouin\, Rouen\, Norm
 andie\, 76000\, Seine-Maritime\, France
GEO:49.442558;1.082571
X-APPLE-STRUCTURED-LOCATION;VALUE=URI;X-ADDRESS=16 rue Duguay Trouin\, Roue
 n\, Normandie\, 76000\, Seine-Maritime\, France;X-APPLE-RADIUS=100;X-TITLE
 =Chapelle du foyer des marins:geo:49.442558,1.082571
END:VEVENT
BEGIN:VTIMEZONE
TZID:Europe/Paris
X-LIC-LOCATION:Europe/Paris
BEGIN:DAYLIGHT
DTSTART:20260329T030000
TZOFFSETFROM:+0100
TZOFFSETTO:+0200
TZNAME:CEST
END:DAYLIGHT
END:VTIMEZONE
END:VCALENDAR