BEGIN:VCALENDAR
VERSION:2.0
PRODID:-//wp-events-plugin.com//7.2.3.1//EN
TZID:Europe/Paris
X-WR-TIMEZONE:Europe/Paris
BEGIN:VEVENT
UID:27@foyerdesmarins.fr
DTSTART;TZID=Europe/Paris:20260607T170000
DTEND;TZID=Europe/Paris:20260607T193000
DTSTAMP:20250818T054556Z
URL:https://foyerdesmarins.fr/evenements/agathe-b-et-ebbnflow/
SUMMARY:AGATHE B ET EBB'N'FLOW
DESCRIPTION:Quoi de mieux\, que ce flux et reflux (Ebb'n'Flow) pour clôtur
 er ce 4e festival. Un duo folk-acoustique qui\nfera le lien avec le 5e fes
 tival d'Un bord à l'autre (2026/2027)\, consacré essentiellement au Folk
 . Et c'est\nmon ami\, Gareth\, Gareth Wood à la guitare et la sirène\, F
 lorence Lemarchand qui hisseront la voile pour\nparer à virer. On écoute
 ra Leonard Cohen\, Tom Waits et... Bruce Springsteen! (entre autres). En p
 remière\npartie\, Agathe B\, décalée\, rêveuse\, réinvente à l'accor
 déon rock'n'roll\, des tubes des années 60 aux années\n2000.\nRÉSERVEZ
  ICI\n
ATTACH;FMTTYPE=image/jpeg:https://foyerdesmarins.fr/wp-content/uploads/202
 5/06/AGATHE-B-ET-EBBNFLOW-375x300-2.png
CATEGORIES:Concert Gratuit,Festival d'un bord à l'autre
LOCATION:Chapelle du foyer des marins\, 16 rue Duguay Trouin\, Rouen\, Norm
 andie\, 76000\, Seine-Maritime\, France
GEO:49.442558;1.082571
X-APPLE-STRUCTURED-LOCATION;VALUE=URI;X-ADDRESS=16 rue Duguay Trouin\, Roue
 n\, Normandie\, 76000\, Seine-Maritime\, France;X-APPLE-RADIUS=100;X-TITLE
 =Chapelle du foyer des marins:geo:49.442558,1.082571
END:VEVENT
BEGIN:VTIMEZONE
TZID:Europe/Paris
X-LIC-LOCATION:Europe/Paris
BEGIN:DAYLIGHT
DTSTART:20260329T030000
TZOFFSETFROM:+0100
TZOFFSETTO:+0200
TZNAME:CEST
END:DAYLIGHT
END:VTIMEZONE
END:VCALENDAR